BEGIN:VCALENDAR
VERSION:2.0
PRODID:-//Pennabilli Turismo - Pro Loco Pennabilli - ECPv6.15.20//NONSGML v1.0//EN
CALSCALE:GREGORIAN
METHOD:PUBLISH
X-ORIGINAL-URL:https://www.pennabilliturismo.it
X-WR-CALDESC:Eventi per Pennabilli Turismo - Pro Loco Pennabilli
REFRESH-INTERVAL;VALUE=DURATION:PT1H
X-Robots-Tag:noindex
X-PUBLISHED-TTL:PT1H
BEGIN:VTIMEZONE
TZID:Europe/Rome
BEGIN:DAYLIGHT
TZOFFSETFROM:+0100
TZOFFSETTO:+0200
TZNAME:CEST
DTSTART:20240331T010000
END:DAYLIGHT
BEGIN:STANDARD
TZOFFSETFROM:+0200
TZOFFSETTO:+0100
TZNAME:CET
DTSTART:20241027T010000
END:STANDARD
BEGIN:DAYLIGHT
TZOFFSETFROM:+0100
TZOFFSETTO:+0200
TZNAME:CEST
DTSTART:20250330T010000
END:DAYLIGHT
BEGIN:STANDARD
TZOFFSETFROM:+0200
TZOFFSETTO:+0100
TZNAME:CET
DTSTART:20251026T010000
END:STANDARD
BEGIN:DAYLIGHT
TZOFFSETFROM:+0100
TZOFFSETTO:+0200
TZNAME:CEST
DTSTART:20260329T010000
END:DAYLIGHT
BEGIN:STANDARD
TZOFFSETFROM:+0200
TZOFFSETTO:+0100
TZNAME:CET
DTSTART:20261025T010000
END:STANDARD
BEGIN:DAYLIGHT
TZOFFSETFROM:+0100
TZOFFSETTO:+0200
TZNAME:CEST
DTSTART:20270328T010000
END:DAYLIGHT
BEGIN:STANDARD
TZOFFSETFROM:+0200
TZOFFSETTO:+0100
TZNAME:CET
DTSTART:20271031T010000
END:STANDARD
END:VTIMEZONE
BEGIN:VEVENT
DTSTART;TZID=Europe/Rome:20251109T103000
DTEND;TZID=Europe/Rome:20260531T233000
DTSTAMP:20260422T222005
CREATED:20251109T143258Z
LAST-MODIFIED:20251109T143531Z
UID:2192-1762684200-1780270200@www.pennabilliturismo.it
SUMMARY:VENOLTA | Piccolo festival dei balli e delle musiche popolari di confine
DESCRIPTION:VENOLTA\nPiccolo festival dei balli e delle musiche popolari di confine\n15 • 16 novembre 2025  + Anteprima domenica 9 novembre\nPennabilli (RN) | Sant’Agata Feltria (RN)\n\n\n\nAlla sua quarta edizione\, Venolta si trasforma: da piccolo festival di balli e musiche popolari di confine diventa una rassegna diffusa lungo tutto l’anno\, fatta di canti\, riti\, incontri\, concerti e laboratori.\nUn viaggio per risvegliare la memoria delle tradizioni e riscoprire la gioia di stare insieme\, attraversando ogni stagione nel segno della festa e della comunità.\n\n\n\n ANTEPRIMA – 9 novembre\, Sant’Agata Feltria\nTrekking\, balli e storie rurali per iniziare a camminare insieme verso Venolta.\n\n\n\n\n\n 15-16 novembre\, Pennabilli e Sant’Agata Feltria \nLaboratori di canto\, musica e danza\, pranzi canori\, testimonianze\, veglione e festa comunitaria: due giorni di incontri\, balli e convivialità\, con musicisti e cantori da tutta la Romagna e le Marche.\n\n\n              \n\n\n\n\n Abbonamenti “Sostengo il Festival”\n3 laboratori + veglione €40\n2 laboratori + veglione €30\n Ingresso gratuito sotto i 18 e sopra i 65 anni\n E da dicembre… Venolta tutto l’anno\, con appuntamenti a Casteldelci\, Pennabilli\, Badia Tedalda e Sestino.\n\n\n\n\n\n Info e prenotazioni: 334 1504829 (WhatsApp)\n venoltaballiemusichepopolari@gmail.com\n\n\na cura di\nUltimo Punto • Chiocciola la casa del nomade • L’Uva Grisa • Viva el Ball • Da un’idea di Piergiorgio Rosetti
URL:https://www.pennabilliturismo.it/evento/venolta-piccolo-festival-dei-balli-e-delle-musiche-popolari-di-confine
LOCATION:Pennabilli\, Pennabilli\, Pennabilli\, 47864\, Italia
CATEGORIES:Feste, Sagre, Festival e Manifestazioni
ATTACH;FMTTYPE=image/jpeg:https://www.pennabilliturismo.it/wp-content/uploads/2025/11/571662589-1457819639456974-305556556147332432-n.jpg
ORGANIZER;CN="Chiocciola la casa del nomade":MAILTO:info@chiocciolalacasadelnomade.it
END:VEVENT
BEGIN:VEVENT
DTSTART;TZID=Europe/Rome:20260403T200000
DTEND;TZID=Europe/Rome:20260403T233000
DTSTAMP:20260422T222005
CREATED:20260317T212825Z
LAST-MODIFIED:20260317T212825Z
UID:2212-1775246400-1775259000@www.pennabilliturismo.it
SUMMARY:Processione dei Giudei | 3 aprile 2026
DESCRIPTION:LA TRADIZIONALE “PROCESSIONE DEI GIUDEI” DEL VENERDI SANTO | 3 aprile 2026\n\nLa rievocazione storica de “LA PROCESSIONE DEI GIUDEI” che si svolge a Pennabilli da secoli il giorno del Venerdì Santo è un evento religioso che commemora la passione e crocifissione di Cristo. Ogni anno l’intero borgo medievale di Pennabilli si cala in un’atmosfera d’altri tempi\, di rara ed unica suggestione.\n\nIl paese viene illuminato solo da fiaccole\, da antichi lampioncini artigianali in carta colorata e da bracieri infuocati. Durante la processione\, agli uomini delle confraternite\, vestiti con i tradizionali abiti\, spetta il compito di trasportare a spalla una rarissima scultura in cartapesta policroma datata 1631\, raffigurante la Madonna e il Cristo morto.\n\nAssieme ai fedeli in corteo\, partecipano alla processione in costume\, il Cristo oppresso dal peso della Croce\, il Cireneo\, le pie donne\, i soldati romani in marcia al rullo dei tamburi generalmente chiamati “Giudei”\, e gli incappucciati. I costumi dei soldati romani\, sono particolarmente importanti poiché si ispirano alle guardie romane presenti nel ciclo pittorico di Piero della Francesca “La Leggenda della vera Croce” (1452-1466).\n\nIl corteo\, dopo aver fatto un lungo e suggestivo percorso\, attraverso il centro storico e la piazza\, arriva al monastero delle Monache Agostiniane di Sant’Antonio da Padova. Le alture della “Rupe” richiamano il Golgota\, e in un contesto naturale fortemente solenne e suggestivo\, illuminato solo da torce e falò\, viene rappresentata la Rievocazione della Passione e Morte di Gesù a cura della Filodrammatica Pennese.\n\nProgramma:\n• ore 20:00 Cattedrale – Liturgia “Nella Passione di Cristo” celebrata da S.E. Domenico Beneventi\, Vescovo della Diocesi di San Marino e Montefeltro• ore 21:00 Chiesa della Misericordia – partenza Processione dei Giudei• ore 22:00 Castello di Billi – Rievocazione della Passione e Morte di Gesù
URL:https://www.pennabilliturismo.it/evento/processione-dei-giudei-3-aprile-2026
LOCATION:Pennabilli\, Pennabilli\, Pennabilli\, 47864\, Italia
CATEGORIES:Feste, Sagre, Festival e Manifestazioni
ATTACH;FMTTYPE=image/jpeg:https://www.pennabilliturismo.it/wp-content/uploads/2026/03/processione-giudei-copertina-2026.jpg
END:VEVENT
END:VCALENDAR